BEGIN:VCALENDAR
VERSION:2.0
PRODID:-//ChamberMaster//Event Calendar 2.0//EN
METHOD:PUBLISH
X-PUBLISHED-TTL:P3D
REFRESH-INTERVAL:P3D
CALSCALE:GREGORIAN
BEGIN:VEVENT
DTSTART;VALUE=DATE:20170417
DTEND;VALUE=DATE:20170418
TRANSP:TRANSPARENT
X-MICROSOFT-CDO-ALLDAYEVENT:TRUE
SUMMARY:East End Scholarship Program Application (Extended Deadline)
DESCRIPTION:In 2016 the East End Chamber of Commerce Foundation awarded about $48\,000 in Scholarships to East End High School Seniors seeking 2 or 4-year degrees. The Foundation is committed to supporting the educational needs of area students and has awarded over $248\,000 in scholarships the last seven years.\n\n                       \n\nEast End Scholars are students who are seeking a bachelor's degree\, associate's degree\, or a two-year certification\, and have demonstrated leadership\, academic excellence and community stewardship. The Scholars program will consist of career guidance and networking opportunities. Scholars are required to be full-time students at a college or university\, maintain a minimum 2.5 G.P.A. and to stay involved in the East End Scholars program. The awards will be given in 2 allotments\, one in Fall semester and one in Spring semester.\n\n\n\nThe East End Scholars Program is currently accepting applications for the 2017 - 2018 school year. Please download the application below and send it to the address provided. We look forward to receiving your application. \n\nDOWNLOAD THE 2017 SCHOLARSHIP APPLICATION HERE
X-ALT-DESC;FMTTYPE=text/html:<p><span style="font-size:12px\;">In 2016 the East End Chamber of Commerce Foundation awarded about $48\,000 in Scholarships to East End High School Seniors seeking 2 or 4-year degrees. The Foundation is committed to supporting the educational needs of area students and has awarded over $248\,000 in scholarships the last seven years.<br />\n&nbsp\;&nbsp\;&nbsp\;&nbsp\;&nbsp\;&nbsp\;&nbsp\;&nbsp\;&nbsp\;&nbsp\;&nbsp\;&nbsp\;&nbsp\;&nbsp\;&nbsp\;&nbsp\;&nbsp\;&nbsp\;&nbsp\;&nbsp\;&nbsp\;&nbsp\;&nbsp\;<br />\nEast End Scholars are students who are seeking a bachelor&rsquo\;s degree\, associate&rsquo\;s degree\, or a two-year certification\, and have demonstrated leadership\, academic excellence and community stewardship. The Scholars program will consist of career guidance and networking opportunities.&nbsp\;<strong>Scholars are required to be full-time students at a college or university\, maintain a minimum 2.5 G.P.A. and to stay involved in the East End Scholars program. </strong>The awards will be given in 2 allotments\, one in Fall semester and one in Spring semester.<br />\n<br />\nThe East End Scholars Program is currently accepting applications for the 2017 - 2018 school year. Please download the application below and send it to the address provided. We look forward to receiving your application.&nbsp\;</span></p>\n\n<p><a href="https://chambermaster.blob.core.windows.net/userfiles/UserFiles/chambers/2026/File/2017EastEndChamberScholarshipApplication1.pdf">DOWNLOAD THE 2017 SCHOLARSHIP APPLICATION HERE</a><br />\n&nbsp\;</p>\n
LOCATION:Send To: Houston East End Chamber of Commerce ATTN: Scholarship Committee 550 Gulfgate Center Houston\, TX 77087
UID:e.2026.5068978
SEQUENCE:3
DTSTAMP:20260423T141443Z
URL:http://eecochouston.chambermaster.com/events/details/east-end-scholarship-program-application-extended-deadline-5068978
END:VEVENT

END:VCALENDAR
